BEGIN:VCALENDAR
VERSION:2.0
PRODID:-//Degenstein Community Library - ECPv6.15.20//NONSGML v1.0//EN
CALSCALE:GREGORIAN
METHOD:PUBLISH
X-ORIGINAL-URL:https://degensteinlibrary.org
X-WR-CALDESC:Events for Degenstein Community Library
REFRESH-INTERVAL;VALUE=DURATION:PT1H
X-Robots-Tag:noindex
X-PUBLISHED-TTL:PT1H
BEGIN:VTIMEZONE
TZID:America/New_York
BEGIN:DAYLIGHT
TZOFFSETFROM:-0500
TZOFFSETTO:-0400
TZNAME:EDT
DTSTART:20250309T070000
END:DAYLIGHT
BEGIN:STANDARD
TZOFFSETFROM:-0400
TZOFFSETTO:-0500
TZNAME:EST
DTSTART:20251102T060000
END:STANDARD
BEGIN:DAYLIGHT
TZOFFSETFROM:-0500
TZOFFSETTO:-0400
TZNAME:EDT
DTSTART:20260308T070000
END:DAYLIGHT
BEGIN:STANDARD
TZOFFSETFROM:-0400
TZOFFSETTO:-0500
TZNAME:EST
DTSTART:20261101T060000
END:STANDARD
BEGIN:DAYLIGHT
TZOFFSETFROM:-0500
TZOFFSETTO:-0400
TZNAME:EDT
DTSTART:20270314T070000
END:DAYLIGHT
BEGIN:STANDARD
TZOFFSETFROM:-0400
TZOFFSETTO:-0500
TZNAME:EST
DTSTART:20271107T060000
END:STANDARD
END:VTIMEZONE
BEGIN:VEVENT
DTSTART;TZID=America/New_York:20260424T100000
DTEND;TZID=America/New_York:20260424T104500
DTSTAMP:20260424T160203
CREATED:20260319T172002Z
LAST-MODIFIED:20260331T174933Z
UID:10004270-1777024800-1777027500@degensteinlibrary.org
SUMMARY:Arm Chair
DESCRIPTION:
URL:https://degensteinlibrary.org/event/arm-chair-12/
END:VEVENT
BEGIN:VEVENT
DTSTART;TZID=America/New_York:20260424T110000
DTEND;TZID=America/New_York:20260424T120000
DTSTAMP:20260424T160203
CREATED:20260319T172002Z
LAST-MODIFIED:20260331T174933Z
UID:10004271-1777028400-1777032000@degensteinlibrary.org
SUMMARY:Cats in Books Story Time
DESCRIPTION:Join us as we welcome Cats in Bloom to our Library for a special storytime with cat themed stories\, songs\, and crafts.\nChildren and their caregivers will get an opportunity to interact with cats/kittens from the rescue looking for their forever homes.\nSecond and Fourth Friday of every month @ 11am.\nSpace is limited. Registration required for each time slot.\nThis is a basic and social/civic literacy program\, part of PA Forward.
URL:https://degensteinlibrary.org/event/cats-in-books-story-time-4/
END:VEVENT
BEGIN:VEVENT
DTSTART;TZID=America/New_York:20260424T123000
DTEND;TZID=America/New_York:20260424T140000
DTSTAMP:20260424T160203
CREATED:20260319T172002Z
LAST-MODIFIED:20260331T174933Z
UID:10004272-1777033800-1777039200@degensteinlibrary.org
SUMMARY:Homeschool Book Club
DESCRIPTION:
URL:https://degensteinlibrary.org/event/homeschool-book-club-4/
END:VEVENT
BEGIN:VEVENT
DTSTART;TZID=America/New_York:20260425T093000
DTEND;TZID=America/New_York:20260425T120000
DTSTAMP:20260424T160203
CREATED:20260319T172002Z
LAST-MODIFIED:20260331T174933Z
UID:10004273-1777109400-1777118400@degensteinlibrary.org
SUMMARY:Cross Stitch Club - Downstairs
DESCRIPTION:Jenni Swan 570-439-7010\nBeginners to advances.\, Bring owns supplies\nCommunity Room
URL:https://degensteinlibrary.org/event/cross-stitch-club-downstairs-2/
END:VEVENT
BEGIN:VEVENT
DTSTART;TZID=America/New_York:20260425T100000
DTEND;TZID=America/New_York:20260425T110000
DTSTAMP:20260424T160203
CREATED:20260320T171934Z
LAST-MODIFIED:20260331T174933Z
UID:10004274-1777111200-1777114800@degensteinlibrary.org
SUMMARY:Growing Up Wild
DESCRIPTION:
URL:https://degensteinlibrary.org/event/growing-up-wild-2/
END:VEVENT
BEGIN:VEVENT
DTSTART;TZID=America/New_York:20260427T180000
DTEND;TZID=America/New_York:20260427T190000
DTSTAMP:20260424T160203
CREATED:20260320T171934Z
LAST-MODIFIED:20260331T174933Z
UID:10004275-1777312800-1777316400@degensteinlibrary.org
SUMMARY:60s 70s music Bingo
DESCRIPTION:Book Bingo is held in the Community Room on the first floor.  There is no registration or fee to play.  All winners can select an item from the cart.\n PA Forward:  Social/Civic Literacy
URL:https://degensteinlibrary.org/event/60s-70s-music-bingo/
END:VEVENT
BEGIN:VEVENT
DTSTART;TZID=America/New_York:20260428T090000
DTEND;TZID=America/New_York:20260428T110000
DTSTAMP:20260424T160203
CREATED:20260320T171934Z
LAST-MODIFIED:20260331T174934Z
UID:10004276-1777366800-1777374000@degensteinlibrary.org
SUMMARY:PRE-K COUNTS
DESCRIPTION:
URL:https://degensteinlibrary.org/event/pre-k-counts/
END:VEVENT
BEGIN:VEVENT
DTSTART;TZID=America/New_York:20260428T100000
DTEND;TZID=America/New_York:20260428T104500
DTSTAMP:20260424T160203
CREATED:20260321T172052Z
LAST-MODIFIED:20260331T174934Z
UID:10004277-1777370400-1777373100@degensteinlibrary.org
SUMMARY:Arm Chair
DESCRIPTION:
URL:https://degensteinlibrary.org/event/arm-chair-13/
END:VEVENT
BEGIN:VEVENT
DTSTART;TZID=America/New_York:20260428T100000
DTEND;TZID=America/New_York:20260428T120000
DTSTAMP:20260424T160203
CREATED:20260326T173623Z
LAST-MODIFIED:20260331T174934Z
UID:10004297-1777370400-1777377600@degensteinlibrary.org
SUMMARY:English as a Second Language Class
DESCRIPTION:Offered through the CSIU.  Ms. Jeanne provides small group instruction for individuals needing help learning English.  \nFor more information – please call  570-523-1155 ext. 2321. This program is part of PA Forward – Basic Literacy.  Conference Room
URL:https://degensteinlibrary.org/event/english-as-a-second-language-class-8/
END:VEVENT
BEGIN:VEVENT
DTSTART;TZID=America/New_York:20260428T123000
DTEND;TZID=America/New_York:20260428T133000
DTSTAMP:20260424T160203
CREATED:20260322T172121Z
LAST-MODIFIED:20260331T174934Z
UID:10004278-1777379400-1777383000@degensteinlibrary.org
SUMMARY:Wee Cook
DESCRIPTION:
URL:https://degensteinlibrary.org/event/wee-cook-4/
END:VEVENT
BEGIN:VEVENT
DTSTART;TZID=America/New_York:20260428T140000
DTEND;TZID=America/New_York:20260428T151500
DTSTAMP:20260424T160203
CREATED:20260324T173443Z
LAST-MODIFIED:20260331T174934Z
UID:10004279-1777384800-1777389300@degensteinlibrary.org
SUMMARY:Degenstein History Buffs
DESCRIPTION:Local historian\, John Moore\, will be discussing Sunbury and the surrounding areas.\nSocial and Civic Literacy are an important part of PA Forward\, a statewide initiative that promotes literacy for all ages to be productive citizens.
URL:https://degensteinlibrary.org/event/degenstein-history-buffs-2/
END:VEVENT
BEGIN:VEVENT
DTSTART;TZID=America/New_York:20260428T170000
DTEND;TZID=America/New_York:20260428T180000
DTSTAMP:20260424T160203
CREATED:20260324T173443Z
LAST-MODIFIED:20260331T174934Z
UID:10004280-1777395600-1777399200@degensteinlibrary.org
SUMMARY:Mother Goose on the Loose
DESCRIPTION:Mother Goose on the Loose is a 30 minute interactive nursery rhyme program that focuses on babies and toddlers. \nThis is part of PA Forward – Basic Literacy\,
URL:https://degensteinlibrary.org/event/mother-goose-on-the-loose-15/
END:VEVENT
BEGIN:VEVENT
DTSTART;TZID=America/New_York:20260429T100000
DTEND;TZID=America/New_York:20260429T104500
DTSTAMP:20260424T160203
CREATED:20260324T173443Z
LAST-MODIFIED:20260331T174934Z
UID:10004281-1777456800-1777459500@degensteinlibrary.org
SUMMARY:Mother Goose on the Loose
DESCRIPTION:
URL:https://degensteinlibrary.org/event/mother-goose-on-the-loose-16/
END:VEVENT
BEGIN:VEVENT
DTSTART;TZID=America/New_York:20260429T100000
DTEND;TZID=America/New_York:20260429T120000
DTSTAMP:20260424T160203
CREATED:20260326T173623Z
LAST-MODIFIED:20260331T174934Z
UID:10004298-1777456800-1777464000@degensteinlibrary.org
SUMMARY:English as a Second Language Class
DESCRIPTION:Offered through the CSIU.  Ms. Jeanne provides small group instruction for individuals needing help learning English.  \nFor more information – please call  570-523-1155 ext. 2321. This program is part of PA Forward – Basic Literacy.  Conference Room
URL:https://degensteinlibrary.org/event/english-as-a-second-language-class-9/
END:VEVENT
BEGIN:VEVENT
DTSTART;TZID=America/New_York:20260429T110000
DTEND;TZID=America/New_York:20260429T120000
DTSTAMP:20260424T160203
CREATED:20260324T173443Z
LAST-MODIFIED:20260331T174934Z
UID:10004282-1777460400-1777464000@degensteinlibrary.org
SUMMARY:1\,2\,3 You and Me
DESCRIPTION:
URL:https://degensteinlibrary.org/event/123-you-and-me-2/
END:VEVENT
BEGIN:VEVENT
DTSTART;TZID=America/New_York:20260429T130000
DTEND;TZID=America/New_York:20260429T143000
DTSTAMP:20260424T160203
CREATED:20260324T173443Z
LAST-MODIFIED:20260331T174934Z
UID:10004283-1777467600-1777473000@degensteinlibrary.org
SUMMARY:Bridge Club
DESCRIPTION:Led by Bob Reed\nBeginners are welcome. \nRegistration is encouraged\, but not required. \n570.286.2461\nSocial/Civic Literacy
URL:https://degensteinlibrary.org/event/bridge-club-27/
LOCATION:Degenstein Community Library\, 40 S 5th St\, Sunbury\, PA\, United States
GEO:40.860314;-76.789314
X-APPLE-STRUCTURED-LOCATION;VALUE=URI;X-ADDRESS=Degenstein Community Library 40 S 5th St Sunbury PA United States;X-APPLE-RADIUS=500;X-TITLE=40 S 5th St:geo:-76.789314,40.860314
END:VEVENT
BEGIN:VEVENT
DTSTART;TZID=America/New_York:20260429T160000
DTEND;TZID=America/New_York:20260429T174500
DTSTAMP:20260424T160203
CREATED:20260331T174934Z
LAST-MODIFIED:20260331T174934Z
UID:10004300-1777478400-1777484700@degensteinlibrary.org
SUMMARY:BTE - Amazing Mr. Franklin
DESCRIPTION:Bloomsburg Theatre Ensemble in the Classroom\nCelebrate America’s 250th Birthday with this free theatre show.
URL:https://degensteinlibrary.org/event/bte-amazing-mr-franklin/
END:VEVENT
BEGIN:VEVENT
DTSTART;TZID=America/New_York:20260430T133000
DTEND;TZID=America/New_York:20260430T143000
DTSTAMP:20260424T160203
CREATED:20260325T173549Z
LAST-MODIFIED:20260331T174934Z
UID:10004285-1777555800-1777559400@degensteinlibrary.org
SUMMARY:Living with Grief
DESCRIPTION:This group is designed to give an overview of grief and assist the grieving adult to begin processing their reaction in a supportive environment.  Meets second Thursday of every month at the Degenstein Community Library.
URL:https://degensteinlibrary.org/event/living-with-grief-5/
END:VEVENT
BEGIN:VEVENT
DTSTART;TZID=America/New_York:20260430T143000
DTEND;TZID=America/New_York:20260430T160000
DTSTAMP:20260424T160203
CREATED:20260325T173549Z
LAST-MODIFIED:20260331T174934Z
UID:10004284-1777559400-1777564800@degensteinlibrary.org
SUMMARY:Friends of the Library Book Club
DESCRIPTION:Friends of the Library Book Club meets on the first floor of the library in the Community Room.\nList of books is available at the circulation desk or on the library’s website under Friends.
URL:https://degensteinlibrary.org/event/friends-of-the-library-book-club-2/
END:VEVENT
BEGIN:VEVENT
DTSTART;TZID=America/New_York:20260430T150000
DTEND;TZID=America/New_York:20260430T163000
DTSTAMP:20260424T160203
CREATED:20260325T173549Z
LAST-MODIFIED:20260331T174934Z
UID:10004286-1777561200-1777566600@degensteinlibrary.org
SUMMARY:Knitters Club - Ewe & I
DESCRIPTION:
URL:https://degensteinlibrary.org/event/knitters-club-ewe-i-7/
END:VEVENT
BEGIN:VEVENT
DTSTART;TZID=America/New_York:20260430T170000
DTEND;TZID=America/New_York:20260430T180000
DTSTAMP:20260424T160203
CREATED:20260325T173549Z
LAST-MODIFIED:20260331T174934Z
UID:10004287-1777568400-1777572000@degensteinlibrary.org
SUMMARY:Special Library Card Event
DESCRIPTION:
URL:https://degensteinlibrary.org/event/special-library-card-event/
END:VEVENT
END:VCALENDAR